BEGIN:VCALENDAR
VERSION:2.0
PRODID:-//Childrens Guild Schools - ECPv6.15.20//NONSGML v1.0//EN
CALSCALE:GREGORIAN
METHOD:PUBLISH
X-WR-CALNAME:Childrens Guild Schools
X-ORIGINAL-URL:https://childrensguildschools.org
X-WR-CALDESC:Events for Childrens Guild Schools
REFRESH-INTERVAL;VALUE=DURATION:PT1H
X-Robots-Tag:noindex
X-PUBLISHED-TTL:PT1H
BEGIN:VTIMEZONE
TZID:UTC
BEGIN:STANDARD
TZOFFSETFROM:+0000
TZOFFSETTO:+0000
TZNAME:UTC
DTSTART:20240101T000000
END:STANDARD
END:VTIMEZONE
BEGIN:VEVENT
DTSTART;VALUE=DATE:20251210
DTEND;VALUE=DATE:20251211
DTSTAMP:20260424T154033
CREATED:20251029T181015Z
LAST-MODIFIED:20251029T181043Z
UID:2373-1765324800-1765411199@childrensguildschools.org
SUMMARY:5-hour Day: Early Dismissal
DESCRIPTION:5-hour Day: Early Dismissal
URL:https://childrensguildschools.org/event/5-hour-day-early-dismissal-49/
END:VEVENT
END:VCALENDAR